BEGIN:VCALENDAR
VERSION:2.0
PRODID:-//eventon.com NONSGML v1.0//EN
CALSCALE:GREGORIAN
METHOD:PUBLISH
BEGIN:VEVENT
UID:69e5e193c016b
DTSTAMP:20260420T081931Z
DTSTART:20221108T140000Z
DTEND:20221108T163000Z
LOCATION:
SUMMARY:Jardin de la Crémetterie
DESCRIPTION:Jardin de la Crémetterie\nhttps://ecosnantes.org/events/jardin
 -de-la-cremetterie-2/
URL:https://ecosnantes.org/events/jardin-de-la-cremetterie-2/
END:VEVENT
END:VCALENDAR