BEGIN:VCALENDAR
VERSION:2.0
PRODID:-//eventon.com NONSGML v1.0//EN
CALSCALE:GREGORIAN
METHOD:PUBLISH
BEGIN:VEVENT
UID:69eccd7196edd
DTSTAMP:20260425T141929Z
DTSTART:20221124T150000Z
DTEND:20221124T180000Z
LOCATION:
SUMMARY:Jardin du PIN SEC
DESCRIPTION:Jardin du PIN SEC\nhttps://ecosnantes.org/events/jardin-du-pin-
 sec-7/
URL:https://ecosnantes.org/events/jardin-du-pin-sec-7/
END:VEVENT
END:VCALENDAR