BEGIN:VCALENDAR
VERSION:2.0
PRODID:-//eventon.com NONSGML v1.0//EN
CALSCALE:GREGORIAN
METHOD:PUBLISH
BEGIN:VEVENT
UID:69e77bb9c586c
DTSTAMP:20260421T132929Z
DTSTART:20250512T100000Z
DTEND:20250512T120000Z
LOCATION:
SUMMARY:Jardin du Jamet
DESCRIPTION:Rendez-vous au jardin\,  derrière le Centre socio-culturel de 
 Bellevue\,  25\,  rue du Jamet à Nantes.\nhttps://ecosnantes.org/events/ja
 rdin-du-jamet-17/
URL:https://ecosnantes.org/events/jardin-du-jamet-17/
END:VEVENT
END:VCALENDAR