BEGIN:VCALENDAR
VERSION:2.0
PRODID:-//eventon.com NONSGML v1.0//EN
CALSCALE:GREGORIAN
METHOD:PUBLISH
BEGIN:VEVENT
UID:69ed45ec5814d
DTSTAMP:20260425T225332Z
DTSTART:20250415T160000Z
DTEND:20250415T173000Z
LOCATION:
SUMMARY:Jardin Ecos'ystem
DESCRIPTION:\nhttps://ecosnantes.org/events/jardin-ecosystem-37/
URL:https://ecosnantes.org/events/jardin-ecosystem-37/
END:VEVENT
END:VCALENDAR