BEGIN:VCALENDAR
VERSION:2.0
PRODID:-//eventon.com NONSGML v1.0//EN
CALSCALE:GREGORIAN
METHOD:PUBLISH
BEGIN:VEVENT
UID:69ea3205cc835
DTSTAMP:20260423T145149Z
DTSTART:20250428T170000Z
DTEND:20250428T193000Z
LOCATION:
SUMMARY:Jardin de la rue Dullin
DESCRIPTION:\nhttps://ecosnantes.org/events/jardin-de-la-rue-dullin-26/
URL:https://ecosnantes.org/events/jardin-de-la-rue-dullin-26/
END:VEVENT
END:VCALENDAR