BEGIN:VCALENDAR
VERSION:2.0
PRODID:-//eventon.com NONSGML v1.0//EN
CALSCALE:GREGORIAN
METHOD:PUBLISH
BEGIN:VEVENT
UID:69ea27cb4d03b
DTSTAMP:20260423T140811Z
DTSTART:20250704T160000Z
DTEND:20250704T180000Z
LOCATION:
SUMMARY:Cycle Plantes à boire
DESCRIPTION:Un cycle de 4 ateliers fabrication et dégustation pour découv
 rir des recettes de boissons variées avec ou sans alcool. Au fil des saiso
 ns\,  quelques plantes seront à l'honneur pour des recettes de boissons fe
 rmentées\,  macérées\,  distillées\,  en sirop et en infusion. Des atel
 iers qui seront également l'occasion d'échanger sur l'histoire[..]\nhttps
 ://ecosnantes.org/events/cycle-plantes-a-boire-7/
URL:https://ecosnantes.org/events/cycle-plantes-a-boire-7/
END:VEVENT
END:VCALENDAR