BEGIN:VCALENDAR
VERSION:2.0
PRODID:-//eventon.com NONSGML v1.0//EN
CALSCALE:GREGORIAN
METHOD:PUBLISH
BEGIN:VEVENT
UID:69e9646499577
DTSTAMP:20260423T001428Z
DTSTART:20240918T180000Z
DTEND:20240918T200000Z
LOCATION:
SUMMARY:Cours de jardinage
DESCRIPTION:*cycle jardin potager 2024-2025* Les bases du sol vivant\,  prĂ
 ©paration de terrain et test de sol | Tarifs : AdhĂ©rent-es : 15 â‚¬ | Plei
 n : 20 â‚¬ | Solidaire (ressources modestes) : 5 â‚¬ | Jardiniers Boutur'Ă˘
 ges : Gratuit (sur justificatif) Venez dĂ©couvrir le fonctionnement d'un so
 l vivant et[..]\nhttps://ecosnantes.org/events/cours-de-jardinage-21/
URL:https://ecosnantes.org/events/cours-de-jardinage-21/
END:VEVENT
END:VCALENDAR