BEGIN:VCALENDAR
VERSION:2.0
PRODID:-//eventon.com NONSGML v1.0//EN
CALSCALE:GREGORIAN
METHOD:PUBLISH
BEGIN:VEVENT
UID:69eab13e4fb11
DTSTAMP:20260423T235438Z
DTSTART:20241205T140000Z
DTEND:20241205T160000Z
LOCATION:
SUMMARY:Jardin du Pin Sec
DESCRIPTION:Jardin du Pin Sec\nhttps://ecosnantes.org/events/jardin-du-pin-
 sec-61/
URL:https://ecosnantes.org/events/jardin-du-pin-sec-61/
END:VEVENT
END:VCALENDAR