BEGIN:VCALENDAR
VERSION:2.0
PRODID:-//eventon.com NONSGML v1.0//EN
CALSCALE:GREGORIAN
METHOD:PUBLISH
BEGIN:VEVENT
UID:69ea504968624
DTSTAMP:20260423T170057Z
DTSTART:20241114T140000Z
DTEND:20241114T160000Z
LOCATION:
SUMMARY:Jardin du Pin Sec
DESCRIPTION:Jardin du Pin Sec\nhttps://ecosnantes.org/events/jardin-du-pin-
 sec-59/
URL:https://ecosnantes.org/events/jardin-du-pin-sec-59/
END:VEVENT
END:VCALENDAR