BEGIN:VCALENDAR
VERSION:2.0
PRODID:-//eventon.com NONSGML v1.0//EN
CALSCALE:GREGORIAN
METHOD:PUBLISH
BEGIN:VEVENT
UID:69e7504138ec6
DTSTAMP:20260421T102401Z
DTSTART:20241031T140000Z
DTEND:20241031T160000Z
LOCATION:
SUMMARY:Jardin du Pin Sec
DESCRIPTION:Jardin du Pin Sec\nhttps://ecosnantes.org/events/jardin-du-pin-
 sec-56/
URL:https://ecosnantes.org/events/jardin-du-pin-sec-56/
END:VEVENT
END:VCALENDAR