BEGIN:VCALENDAR
VERSION:2.0
PRODID:-//eventon.com NONSGML v1.0//EN
CALSCALE:GREGORIAN
METHOD:PUBLISH
BEGIN:VEVENT
UID:69e9f8e91b4f0
DTSTAMP:20260423T104809Z
DTSTART:20241003T140000Z
DTEND:20241003T160000Z
LOCATION:
SUMMARY:Jardin du Pin Sec
DESCRIPTION:Jardin du Pin Sec\nhttps://ecosnantes.org/events/jardin-du-pin-
 sec-53/
URL:https://ecosnantes.org/events/jardin-du-pin-sec-53/
END:VEVENT
END:VCALENDAR