BEGIN:VCALENDAR
VERSION:2.0
PRODID:-//eventon.com NONSGML v1.0//EN
CALSCALE:GREGORIAN
METHOD:PUBLISH
BEGIN:VEVENT
UID:69e926fc0a6be
DTSTAMP:20260422T195228Z
DTSTART:20241204T100000Z
DTEND:20241204T120000Z
LOCATION:
SUMMARY:Jardin Amazonia Garden
DESCRIPTION:Jardin Amazonia Garden\nhttps://ecosnantes.org/events/jardin-am
 azonia-garden-57/
URL:https://ecosnantes.org/events/jardin-amazonia-garden-57/
END:VEVENT
END:VCALENDAR