BEGIN:VCALENDAR
VERSION:2.0
PRODID:-//eventon.com NONSGML v1.0//EN
CALSCALE:GREGORIAN
METHOD:PUBLISH
BEGIN:VEVENT
UID:69e63e73e57b5
DTSTAMP:20260420T145547Z
DTSTART:20241016T173000Z
DTEND:20241016T190000Z
LOCATION:
SUMMARY:Potager Terre de Sensive
DESCRIPTION:Potager Terre de Sensive\nhttps://ecosnantes.org/events/potager
 -terre-de-sensive-8/
URL:https://ecosnantes.org/events/potager-terre-de-sensive-8/
END:VEVENT
END:VCALENDAR