BEGIN:VCALENDAR
VERSION:2.0
PRODID:-//eventon.com NONSGML v1.0//EN
CALSCALE:GREGORIAN
METHOD:PUBLISH
BEGIN:VEVENT
UID:69e55210e08e7
DTSTAMP:20260419T220712Z
DTSTART:20240904T120000Z
DTEND:20240904T150000Z
LOCATION:
SUMMARY:Jardin du Chêne
DESCRIPTION:Jardin du Chêne\nhttps://ecosnantes.org/events/jardin-du-chene
 -11/
URL:https://ecosnantes.org/events/jardin-du-chene-11/
END:VEVENT
END:VCALENDAR