BEGIN:VCALENDAR
VERSION:2.0
PRODID:-//eventon.com NONSGML v1.0//EN
CALSCALE:GREGORIAN
METHOD:PUBLISH
BEGIN:VEVENT
UID:69eb5f7250631
DTSTAMP:20260424T121754Z
DTSTART:20240703T150000Z
DTEND:20240703T170000Z
LOCATION:
SUMMARY:Jardin Amazonia Garden
DESCRIPTION:Jardin Amazonia Garden\nhttps://ecosnantes.org/events/jardin-am
 azonia-garden-46/
URL:https://ecosnantes.org/events/jardin-amazonia-garden-46/
END:VEVENT
END:VCALENDAR