BEGIN:VCALENDAR
VERSION:2.0
PRODID:-//eventon.com NONSGML v1.0//EN
CALSCALE:GREGORIAN
METHOD:PUBLISH
BEGIN:VEVENT
UID:69e99cb296c4e
DTSTAMP:20260423T041442Z
DTSTART:20240608T080000Z
DTEND:20240608T100000Z
LOCATION:
SUMMARY:Jardin Canopia
DESCRIPTION:Jardin Canopia\nhttps://ecosnantes.org/events/jardin-canopia-7/
URL:https://ecosnantes.org/events/jardin-canopia-7/
END:VEVENT
END:VCALENDAR