BEGIN:VCALENDAR
VERSION:2.0
PRODID:-//eventon.com NONSGML v1.0//EN
CALSCALE:GREGORIAN
METHOD:PUBLISH
BEGIN:VEVENT
UID:69e72cb7237db
DTSTAMP:20260421T075223Z
DTSTART:20240511T080000Z
DTEND:20240511T100000Z
LOCATION:
SUMMARY:Jardin Canopia
DESCRIPTION:Jardin Canopia\nhttps://ecosnantes.org/events/jardin-canopia-6/
URL:https://ecosnantes.org/events/jardin-canopia-6/
END:VEVENT
END:VCALENDAR