BEGIN:VCALENDAR
VERSION:2.0
PRODID:-//eventon.com NONSGML v1.0//EN
CALSCALE:GREGORIAN
METHOD:PUBLISH
BEGIN:VEVENT
UID:69ec3b4437a38
DTSTAMP:20260425T035548Z
DTSTART:20240524T150000Z
DTEND:20240524T170000Z
LOCATION:
SUMMARY:Jardin Canopia
DESCRIPTION:Jardin Canopia\nhttps://ecosnantes.org/events/jardin-canopia-2/
URL:https://ecosnantes.org/events/jardin-canopia-2/
END:VEVENT
END:VCALENDAR