BEGIN:VCALENDAR
VERSION:2.0
PRODID:-//eventon.com NONSGML v1.0//EN
CALSCALE:GREGORIAN
METHOD:PUBLISH
BEGIN:VEVENT
UID:69e9169f49e0c
DTSTAMP:20260422T184239Z
DTSTART:20241008T140000Z
DTEND:20241008T163000Z
LOCATION:
SUMMARY:Jardin de la Crémetterie
DESCRIPTION:Jardin de la Crémetterie\nhttps://ecosnantes.org/events/jardin
 -de-la-cremetterie-17/
URL:https://ecosnantes.org/events/jardin-de-la-cremetterie-17/
END:VEVENT
END:VCALENDAR