BEGIN:VCALENDAR
VERSION:2.0
PRODID:-//eventon.com NONSGML v1.0//EN
CALSCALE:GREGORIAN
METHOD:PUBLISH
BEGIN:VEVENT
UID:69e4e45422855
DTSTAMP:20260419T141900Z
DTSTART:20240711T150000Z
DTEND:20240711T173000Z
LOCATION:
SUMMARY:Jardin des Sables d'Olonne
DESCRIPTION:Jardin des Sables d'Olonne\nhttps://ecosnantes.org/events/jardi
 n-des-sables-dolonne-5/
URL:https://ecosnantes.org/events/jardin-des-sables-dolonne-5/
END:VEVENT
END:VCALENDAR