BEGIN:VCALENDAR
VERSION:2.0
PRODID:-//eventon.com NONSGML v1.0//EN
CALSCALE:GREGORIAN
METHOD:PUBLISH
BEGIN:VEVENT
UID:69e6bea3a478d
DTSTAMP:20260421T000243Z
DTSTART:20240523T160000Z
DTEND:20240523T180000Z
LOCATION:
SUMMARY:Jardin du Pin Sec
DESCRIPTION:Jardin du Pin Sec\nhttps://ecosnantes.org/events/jardin-du-pin-
 sec-38/
URL:https://ecosnantes.org/events/jardin-du-pin-sec-38/
END:VEVENT
END:VCALENDAR