BEGIN:VCALENDAR
VERSION:2.0
PRODID:-//eventon.com NONSGML v1.0//EN
CALSCALE:GREGORIAN
METHOD:PUBLISH
BEGIN:VEVENT
UID:69e97bb702380
DTSTAMP:20260423T015359Z
DTSTART:20240424T100000Z
DTEND:20240424T120000Z
LOCATION:
SUMMARY:Jardin Amazonia Garden
DESCRIPTION:Jardin Amazonia Garden\nhttps://ecosnantes.org/events/jardin-am
 azonia-garden-33/
URL:https://ecosnantes.org/events/jardin-amazonia-garden-33/
END:VEVENT
END:VCALENDAR