BEGIN:VCALENDAR
VERSION:2.0
PRODID:-//eventon.com NONSGML v1.0//EN
CALSCALE:GREGORIAN
METHOD:PUBLISH
BEGIN:VEVENT
UID:69e6079b1da7e
DTSTAMP:20260420T110147Z
DTSTART:20240529T173000Z
DTEND:20240529T190000Z
LOCATION:
SUMMARY:POTAGER SENSIVE TER'
DESCRIPTION:POTAGER SENSIVE TER'\nhttps://ecosnantes.org/events/potager-sen
 sive-ter-21/
URL:https://ecosnantes.org/events/potager-sensive-ter-21/
END:VEVENT
END:VCALENDAR