BEGIN:VCALENDAR
VERSION:2.0
PRODID:-//eventon.com NONSGML v1.0//EN
CALSCALE:GREGORIAN
METHOD:PUBLISH
BEGIN:VEVENT
UID:69e9e8937f593
DTSTAMP:20260423T093827Z
DTSTART:20240907T120000Z
DTEND:20240907T153000Z
LOCATION:
SUMMARY:⚠ ANNULÉE 🌧️ Formation "Produire\,  récolter et conserver ses semences"
DESCRIPTION:Du 12 mars au 12 octobre 2024\,  les membres du collectif Bombu
 s vous invitent à participer à un cycle de 4 séances gratuites dédiées
  à la production\,  la récolte et la conservation des semences.Étape ess
 entielle pour plus d’autonomie au jardin\,  c’est aussi tout un monde q
 ui s’ouvre à tous les[..]\nhttps://ecosnantes.org/events/formation-produ
 ire-recolter-et-conserver-ses-semences-3/
URL:https://ecosnantes.org/events/formation-produire-recolter-et-conserver-ses-semences-3/
END:VEVENT
END:VCALENDAR