BEGIN:VCALENDAR
VERSION:2.0
PRODID:-//eventon.com NONSGML v1.0//EN
CALSCALE:GREGORIAN
METHOD:PUBLISH
BEGIN:VEVENT
UID:69ecd18cf2c1f
DTSTAMP:20260425T143700Z
DTSTART:20240212T170000Z
DTEND:20240212T190000Z
LOCATION:
SUMMARY:Troc de graines
DESCRIPTION:Dans le cadre de sa commande groupée annuelle (plus d'infos : 
 https://ecosnantes.org/participer-aux.../commande-groupee/)\,  l'associatio
 n ECOS propose un troc de graines ! Lundi 12 février\,  venez échanger vo
 s surplus et découvrir de nouvelles variétés autour d'un verre ! Troc pr
 oposé par le collectif Bombus (plus d'infos : https://ecosnantes.org/bombu
 s/) Événement gratuit\,  ouvert à[..]\nhttps://ecosnantes.org/events/tro
 c-de-graines/
URL:https://ecosnantes.org/events/troc-de-graines/
END:VEVENT
END:VCALENDAR