BEGIN:VCALENDAR
VERSION:2.0
PRODID:-//eventon.com NONSGML v1.0//EN
CALSCALE:GREGORIAN
METHOD:PUBLISH
BEGIN:VEVENT
UID:69e8c279a89f3
DTSTAMP:20260422T124337Z
DTSTART:20240104
DTEND:20240105
LOCATION:
SUMMARY:Commande groupée de graines
DESCRIPTION:Pour compléter au plus juste vos besoins en graines\,  l'assoc
 iation ECOS vous invite à participer à sa commande groupée annuelle. Fle
 urs\,  légumes et aromatiques\,  découvrez près de 50 variétés de grai
 nes biologiques et reproductibles sélectionnées par l'équipe dans le cat
 alogue Germinance en Maine-et-Loire. Testées dans les jardins partagés\, 
  les variétés[..]\nhttps://ecosnantes.org/events/commande-groupee-de-grai
 nes-2/var/event_access
URL:https://ecosnantes.org/events/commande-groupee-de-graines-2/var/event_access
END:VEVENT
END:VCALENDAR