BEGIN:VCALENDAR
VERSION:2.0
PRODID:-//eventon.com NONSGML v1.0//EN
CALSCALE:GREGORIAN
METHOD:PUBLISH
BEGIN:VEVENT
UID:69ec11c77be64
DTSTAMP:20260425T005847Z
DTSTART:20240417T180000Z
DTEND:20240417T203000Z
LOCATION:
SUMMARY:Cours de jardinage
DESCRIPTION:*cycle potager 2023-2024* Transplants des semis sous serre\,  a
 ssociation et rotation de cultures | Tarifs : Adhérent·e·s : 15 € | Pl
 ein : 20 € | Solidaire (ressources modestes) : 5 € | Jardiniers Boutur'
 âges : Gratuit (sur justificatif) Inscriptions : https://www.helloasso.com
 /associations/ecos/evenements/cours-de-jardinage-au-naturel-cycle-2021-2022
 -association-ecos\nhttps://ecosnantes.org/events/cours-de-jardinage-13/
URL:https://ecosnantes.org/events/cours-de-jardinage-13/
END:VEVENT
END:VCALENDAR