BEGIN:VCALENDAR
VERSION:2.0
PRODID:-//eventon.com NONSGML v1.0//EN
CALSCALE:GREGORIAN
METHOD:PUBLISH
BEGIN:VEVENT
UID:69eab94603c71
DTSTAMP:20260424T002854Z
DTSTART:20231011T120000Z
DTEND:20231011T130000Z
LOCATION:
SUMMARY:(R)éveillons nos sens au jardin
DESCRIPTION:Animation aromatique\,  dégustation et découvertes les yeux f
 ermés. Venez prendre le temps de sentir\,  toucher\,  goûter et écouter 
 ce qui se passe au jardin de la Pépinière ! En se concentrant sur un seul
  de nos sens\,  les odeurs\,  les goûts et les textures sont toujours plus
  surprenantes. Une belle[..]\nhttps://ecosnantes.org/events/reveillons-nos-
 sens-au-jardin-2/
URL:https://ecosnantes.org/events/reveillons-nos-sens-au-jardin-2/
END:VEVENT
END:VCALENDAR