BEGIN:VCALENDAR
VERSION:2.0
PRODID:-//eventon.com NONSGML v1.0//EN
CALSCALE:GREGORIAN
METHOD:PUBLISH
BEGIN:VEVENT
UID:69ea31f486479
DTSTAMP:20260423T145132Z
DTSTART:20230905T123000Z
DTEND:20230905T140000Z
LOCATION:
SUMMARY:Les Paysanneries : ateliers
DESCRIPTION:Les Paysanneries : ateliers\nhttps://ecosnantes.org/events/les-
 paysanneries-ateliers/
URL:https://ecosnantes.org/events/les-paysanneries-ateliers/
END:VEVENT
END:VCALENDAR