BEGIN:VCALENDAR
VERSION:2.0
PRODID:-//eventon.com NONSGML v1.0//EN
CALSCALE:GREGORIAN
METHOD:PUBLISH
BEGIN:VEVENT
UID:69e8b2b365c4e
DTSTAMP:20260422T113619Z
DTSTART:20230816T170000Z
DTEND:20230816T183000Z
LOCATION:
SUMMARY:Jardin ECOS'YSTEM
DESCRIPTION:Jardin ECOS'YSTEM\nhttps://ecosnantes.org/events/jardin-ecosyst
 em-15/
URL:https://ecosnantes.org/events/jardin-ecosystem-15/
END:VEVENT
END:VCALENDAR