BEGIN:VCALENDAR
VERSION:2.0
PRODID:-//eventon.com NONSGML v1.0//EN
CALSCALE:GREGORIAN
METHOD:PUBLISH
BEGIN:VEVENT
UID:69e927722b332
DTSTAMP:20260422T195426Z
DTSTART:20230515T140000Z
DTEND:20230515T170000Z
LOCATION:
SUMMARY:Jardin du Colibri
DESCRIPTION:Jardin du Colibri\nhttps://ecosnantes.org/events/jardin-du-coli
 bri-12/
URL:https://ecosnantes.org/events/jardin-du-colibri-12/
END:VEVENT
END:VCALENDAR