BEGIN:VCALENDAR
VERSION:2.0
PRODID:-//eventon.com NONSGML v1.0//EN
CALSCALE:GREGORIAN
METHOD:PUBLISH
BEGIN:VEVENT
UID:69e61f4f63f14
DTSTAMP:20260420T124255Z
DTSTART:20230315T170000Z
DTEND:20230315T193000Z
LOCATION:
SUMMARY:Jardin de la rue Dullin
DESCRIPTION:Jardin de la rue Dullin\nhttps://ecosnantes.org/events/jardin-d
 e-la-rue-dullin-9/
URL:https://ecosnantes.org/events/jardin-de-la-rue-dullin-9/
END:VEVENT
END:VCALENDAR