BEGIN:VCALENDAR
VERSION:2.0
PRODID:-//eventon.com NONSGML v1.0//EN
CALSCALE:GREGORIAN
METHOD:PUBLISH
BEGIN:VEVENT
UID:69ed2a2544bac
DTSTAMP:20260425T205501Z
DTSTART:20230510T180000Z
DTEND:20230510T203000Z
LOCATION:
SUMMARY:Cours de jardinage
DESCRIPTION:*cycle potager* Mise en place des légumes d’été et créati
 on de structures pour gagner en verticalité | Tarifs : Adhérent·e·s : 1
 5 € | Plein : 20 € | Solidaire (ressources modestes) : 5 € | Jardinie
 rs Boutur'âges : Gratuit (sur justificatif) Inscriptions : https://www.hel
 loasso.com/associations/ecos/evenements/cours-de-jardinage-au-naturel-cycle
 -2021-2022-association-ecos\nhttps://ecosnantes.org/events/cours-de-jardina
 ge-6/
URL:https://ecosnantes.org/events/cours-de-jardinage-6/
END:VEVENT
END:VCALENDAR