BEGIN:VCALENDAR
VERSION:2.0
PRODID:-//eventon.com NONSGML v1.0//EN
CALSCALE:GREGORIAN
METHOD:PUBLISH
BEGIN:VEVENT
UID:69eac35d0d186
DTSTAMP:20260424T011157Z
DTSTART:20230201
DTEND:20230301
LOCATION:
SUMMARY:Volontariat en Service Civique
DESCRIPTION:Pour découvrir les activités de la mission et candidater : ht
 tps://www.service-civique.gouv.fr/trouver-ma-mission/la-pepiniere-de-quarti
 er-doulon-participez-a-la-nouvelle-saison-de-production-et-danimations-63d3
 df857e50bb4d4352661b\nhttps://ecosnantes.org/events/volontariat-en-service-
 civique/
URL:https://ecosnantes.org/events/volontariat-en-service-civique/
END:VEVENT
END:VCALENDAR