BEGIN:VCALENDAR
VERSION:2.0
PRODID:-//eventon.com NONSGML v1.0//EN
CALSCALE:GREGORIAN
METHOD:PUBLISH
BEGIN:VEVENT
UID:69e5642a41324
DTSTAMP:20260419T232426Z
DTSTART:20230403T140000Z
DTEND:20230403T170000Z
LOCATION:
SUMMARY:Jardin du Colibri
DESCRIPTION:Jardin du Colibri\nhttps://ecosnantes.org/events/jardin-du-coli
 bri-10/
URL:https://ecosnantes.org/events/jardin-du-colibri-10/
END:VEVENT
END:VCALENDAR